BEGIN:VCALENDAR
VERSION:2.0
PRODID:spatie/icalendar-generator
DESCRIPTION:Veranstaltungen von Skiclub-Garmisch
X-WR-CALDESC:Veranstaltungen von Skiclub-Garmisch
REFRESH-INTERVAL;VALUE=DURATION:PT1440M
X-PUBLISHED-TTL:PT1440M
BEGIN:VTIMEZONE
TZID:Etc/GMT+0
BEGIN:STANDARD
DTSTART:20240508T113000Z
TZOFFSETFROM:+0000
TZOFFSETTO:+0000
END:STANDARD
END:VTIMEZONE
BEGIN:VTIMEZONE
TZID:UTC
BEGIN:STANDARD
DTSTART:20250726T181349Z
TZOFFSETFROM:+0000
TZOFFSETTO:+0000
END:STANDARD
END:VTIMEZONE
BEGIN:VEVENT
UID:92-87
DTSTAMP:20260422T181349Z
SUMMARY:ABGESAGT! Skiweltcup Kandahar Herren Abfahrt  ABGESAGT!
LOCATION:
ORGANIZER;CN=Ski Club Garmisch:MAILTO:info@skiclub-garmisch.de
DTSTART;TZID=Etc/GMT+0:20250202T113000
DTEND;TZID=Etc/GMT+0:20250202T123000
X-ALT-DESC;FMTTYPE=TEXT/HTML:71. Kandahar Rennen der Männer abgesagt “No
  training – no race” - ohne Training kein Rennen\, so ist das Reglemen
 t des alpinen Ski-Weltcups für die Abfahrt! Damit bleiben auch die 71. Ka
 ndahar-Rennen nicht von einer Rennabsage verschont. Die Entscheidung der F
 IS in Absprache mit dem Organisationskomitee des Skiweltcups in Garmisch-P
 artenkirchen in diesem Fall – auch&amp;hellip\;
CATEGORIES:ABGESAGT
URL;VALUE=URI:https://skiclub-garmisch.de/mc-events/abgesagt-skiweltcup-kan
 dahar-herren-abfahrt-abgesagt/
METHOD:PUBLISH
END:VEVENT
END:VCALENDAR